BEGIN:VCALENDAR
VERSION:2.0
PRODID:-//ChamberMaster//Event Calendar 2.0//EN
METHOD:PUBLISH
X-PUBLISHED-TTL:P3D
REFRESH-INTERVAL:P3D
CALSCALE:GREGORIAN
BEGIN:VEVENT
DTSTART:20200122T193000Z
DTEND:20200122T200000Z
X-MICROSOFT-CDO-ALLDAYEVENT:FALSE
SUMMARY:RC - Parklane Family Chiropractic
DESCRIPTION:Join us for a Ribbon Cutting ceremony for Parklane Family Chiropractic!
X-ALT-DESC;FMTTYPE=text/html:Join us for a Ribbon Cutting ceremony for <a href="https://www.facebook.com/parklanefamilychiropractic/">Parklane Family Chiropractic</a>!
LOCATION:5308 Parklane Drive\, Ste 5
UID:e.1404.18288
SEQUENCE:3
DTSTAMP:20260425T133309Z
URL:https://members.kearneycoc.org/events/details/rc-parklane-family-chiropractic-18288
END:VEVENT

END:VCALENDAR
