BEGIN:VCALENDAR
VERSION:2.0
PRODID:-//ChamberMaster//Event Calendar 2.0//EN
METHOD:PUBLISH
X-PUBLISHED-TTL:P3D
REFRESH-INTERVAL:P3D
CALSCALE:GREGORIAN
BEGIN:VEVENT
DTSTART:20131206T180000Z
DTEND:20131206T190000Z
X-MICROSOFT-CDO-ALLDAYEVENT:FALSE
SUMMARY:RC - Pathway to Hope
DESCRIPTION:
X-ALT-DESC;FMTTYPE=text/html:&nbsp\; &nbsp\;&nbsp\;&nbsp\;&nbsp\;&nbsp\;&nbsp\;
LOCATION:2222 W 2nd Ave. Ste 801 Kearney\, NE
UID:e.1404.3379
SEQUENCE:3
DTSTAMP:20260423T212553Z
URL:https://members.kearneycoc.org/events/details/rc-pathway-to-hope-12-06-2013-3379
END:VEVENT

END:VCALENDAR
