BEGIN:VCALENDAR
VERSION:2.0
PRODID:-//ChamberMaster//Event Calendar 2.0//EN
METHOD:PUBLISH
X-PUBLISHED-TTL:P3D
REFRESH-INTERVAL:P3D
CALSCALE:GREGORIAN
BEGIN:VEVENT
DTSTART:20160414T210000Z
DTEND:20160414T213000Z
X-MICROSOFT-CDO-ALLDAYEVENT:FALSE
SUMMARY:RC: Patriot Gardens Inc
DESCRIPTION:Join us in a ribbon cutting ceremony for the new nursery/landscaping business\, Patriot Gardens! This is a unique opportunity to celebrate not only with us\, but the Holdrege Chamber and the Lexington Chamber! We will leave the Kearney Chamber at 3:15 on Thursday if anyone would like to carpool with us!
X-ALT-DESC;FMTTYPE=text/html:Join us in a ribbon cutting ceremony for the new nursery/landscaping business\, Patriot Gardens! This is a unique opportunity to celebrate not only with us\, but the Holdrege Chamber and the Lexington Chamber! We will leave the Kearney Chamber at 3:15 on Thursday if anyone would like to carpool with us!
LOCATION:10556 747 Road Overton\, Nebraska
UID:e.1404.7326
SEQUENCE:3
DTSTAMP:20260421T215944Z
URL:https://members.kearneycoc.org/events/details/rc-patriot-gardens-inc-04-14-2016-7326
END:VEVENT

END:VCALENDAR
