BEGIN:VCALENDAR
VERSION:2.0
PRODID:-//ChamberMaster//Event Calendar 2.0//EN
METHOD:PUBLISH
X-PUBLISHED-TTL:P3D
REFRESH-INTERVAL:P3D
CALSCALE:GREGORIAN
BEGIN:VEVENT
DTSTART:20161101T203500Z
DTEND:20161101T213500Z
X-MICROSOFT-CDO-ALLDAYEVENT:FALSE
SUMMARY:RC: PenAir
DESCRIPTION:Join us in welcoming PenAir to Kearney! This is the opening day for flights!
X-ALT-DESC;FMTTYPE=text/html:Join us in welcoming PenAir to Kearney! This is the opening day for flights!
LOCATION:Kearney Airport 5145 Airport Road
UID:e.1404.9028
SEQUENCE:3
DTSTAMP:20260421T101452Z
URL:https://members.kearneycoc.org/events/details/rc-penair-9028
END:VEVENT

END:VCALENDAR
