BEGIN:VCALENDAR
VERSION:2.0
PRODID:-//ChamberMaster//Event Calendar 2.0//EN
METHOD:PUBLISH
X-PUBLISHED-TTL:P3D
REFRESH-INTERVAL:P3D
CALSCALE:GREGORIAN
BEGIN:VEVENT
DTSTART:20200106T180000Z
DTEND:20200106T190000Z
X-MICROSOFT-CDO-ALLDAYEVENT:FALSE
SUMMARY:RC - Planet Fitness
DESCRIPTION:Please join us for a Ribbon Cutting ceremony for Planet Fitness!
X-ALT-DESC;FMTTYPE=text/html:Please join us for a Ribbon Cutting ceremony for&nbsp\;<a href="https://www.planetfitness.com/gyms/kearney-ne">Planet Fitness</a>!
LOCATION:4915 2nd Ave Kearney NE 68847
UID:e.1404.18284
SEQUENCE:3
DTSTAMP:20260425T114042Z
URL:https://members.kearneycoc.org/events/details/rc-planet-fitness-18284
END:VEVENT

END:VCALENDAR
