BEGIN:VCALENDAR
VERSION:2.0
PRODID:-//ChamberMaster//Event Calendar 2.0//EN
METHOD:PUBLISH
X-PUBLISHED-TTL:P3D
REFRESH-INTERVAL:P3D
CALSCALE:GREGORIAN
BEGIN:VEVENT
DTSTART:20151214T220000Z
DTEND:20151214T223000Z
X-MICROSOFT-CDO-ALLDAYEVENT:FALSE
SUMMARY:RC: Platinum Awards & Gifts
DESCRIPTION:Join us for a ribbon cutting ceremony at the new Platinum Awards & Gifts(formally Recognition Unlimited). Let's give new owner\, Russ Davis a BIG Congratulations! He will be introducing new products and you might even be able to get a little Holiday Shopping done!
X-ALT-DESC;FMTTYPE=text/html:Join us for a ribbon cutting ceremony at the new Platinum Awards &amp\; Gifts(formally Recognition Unlimited). Let&#39\;s give new owner\, Russ Davis a BIG Congratulations! He will be introducing new products and you might even be able to get a little Holiday Shopping done!
LOCATION:2524 1st Avenue
UID:e.1404.7219
SEQUENCE:3
DTSTAMP:20260422T052246Z
URL:https://members.kearneycoc.org/events/details/rc-platinum-awards-gifts-12-14-2015-7219
END:VEVENT

END:VCALENDAR
