BEGIN:VCALENDAR
VERSION:2.0
PRODID:-//ChamberMaster//Event Calendar 2.0//EN
METHOD:PUBLISH
X-PUBLISHED-TTL:P3D
REFRESH-INTERVAL:P3D
CALSCALE:GREGORIAN
BEGIN:VEVENT
DTSTART:20190719T150000Z
DTEND:20190719T153000Z
X-MICROSOFT-CDO-ALLDAYEVENT:FALSE
SUMMARY:RC - Platte Valley Auto Collision Center
DESCRIPTION:Join us for a Ribbon Cutting Ceremony for Platte Valley Auto's Collision Center.
X-ALT-DESC;FMTTYPE=text/html:Join us for a Ribbon Cutting Ceremony for Platte Valley Auto&#39\;s Collision Center.
LOCATION:320 W 44th St. (West of the Dealership).
UID:e.1404.16502
SEQUENCE:3
DTSTAMP:20260425T213124Z
URL:https://members.kearneycoc.org/events/details/rc-platte-valley-auto-collision-center-16502
END:VEVENT

END:VCALENDAR
