BEGIN:VCALENDAR
VERSION:2.0
PRODID:-//ChamberMaster//Event Calendar 2.0//EN
METHOD:PUBLISH
X-PUBLISHED-TTL:P3D
REFRESH-INTERVAL:P3D
CALSCALE:GREGORIAN
BEGIN:VEVENT
DTSTART:20200805T210000Z
DTEND:20200805T213000Z
X-MICROSOFT-CDO-ALLDAYEVENT:FALSE
SUMMARY:RC - Poss Family Chiropractic
DESCRIPTION:Join us for a Ribbon Cutting ceremony with Poss Family Chiropractic! Open House to follow.
X-ALT-DESC;FMTTYPE=text/html:Join us for a Ribbon Cutting ceremony with <a href="https://posschiro.com/">Poss Family Chiropractic</a>! Open House to follow.
LOCATION:204 E 25th St.\, #1 Kearney NE
UID:e.1404.18654
SEQUENCE:3
DTSTAMP:20260425T002221Z
URL:https://members.kearneycoc.org/events/details/rc-poss-family-chiropractic-18654
END:VEVENT

END:VCALENDAR
