BEGIN:VCALENDAR
VERSION:2.0
PRODID:-//ChamberMaster//Event Calendar 2.0//EN
METHOD:PUBLISH
X-PUBLISHED-TTL:P3D
REFRESH-INTERVAL:P3D
CALSCALE:GREGORIAN
BEGIN:VEVENT
DTSTART:20191025T210000Z
DTEND:20191025T213000Z
X-MICROSOFT-CDO-ALLDAYEVENT:FALSE
SUMMARY:RC - Press On Fitness
DESCRIPTION:Join us for a Ribbon Cutting ceremony for the new location of Press On Fitness!
X-ALT-DESC;FMTTYPE=text/html:Join us for a Ribbon Cutting ceremony for the new location of Press On Fitness!
LOCATION:2102 East Hwy 30\, Ste 3
UID:e.1404.17877
SEQUENCE:3
DTSTAMP:20260425T164006Z
URL:https://members.kearneycoc.org/events/details/rc-press-on-fitness-17877
END:VEVENT

END:VCALENDAR
