BEGIN:VCALENDAR
VERSION:2.0
PRODID:-//ChamberMaster//Event Calendar 2.0//EN
METHOD:PUBLISH
X-PUBLISHED-TTL:P3D
REFRESH-INTERVAL:P3D
CALSCALE:GREGORIAN
BEGIN:VEVENT
DTSTART:20131113T180000Z
DTEND:20131113T190000Z
X-MICROSOFT-CDO-ALLDAYEVENT:FALSE
SUMMARY:RC - Prestige Rentals
DESCRIPTION:
X-ALT-DESC;FMTTYPE=text/html:
LOCATION:6410 E Hwy 30 Kearney\, NE
UID:e.1404.3357
SEQUENCE:3
DTSTAMP:20260423T231150Z
URL:https://members.kearneycoc.org/events/details/rc-prestige-rentals-11-13-2013-3357
END:VEVENT

END:VCALENDAR
