BEGIN:VCALENDAR
VERSION:2.0
PRODID:-//ChamberMaster//Event Calendar 2.0//EN
METHOD:PUBLISH
X-PUBLISHED-TTL:P3D
REFRESH-INTERVAL:P3D
CALSCALE:GREGORIAN
BEGIN:VEVENT
DTSTART:20190312T160000Z
DTEND:20190312T163000Z
X-MICROSOFT-CDO-ALLDAYEVENT:FALSE
SUMMARY:RC - Pump & Pantry/Krispy Krunchy Chicken
DESCRIPTION:Join us for a Ribbon Cutting ceremony for Krispy Krunchy Chicken\, located at the south Pump and Pantry!
X-ALT-DESC;FMTTYPE=text/html:Join us for a Ribbon Cutting ceremony for Krispy Krunchy Chicken\, located at the south Pump and Pantry!
LOCATION:1616 2nd Ave
UID:e.1404.15399
SEQUENCE:3
DTSTAMP:20260426T033151Z
URL:https://members.kearneycoc.org/events/details/rc-pump-pantry-krispy-krunchy-chicken-15399
END:VEVENT

END:VCALENDAR
