BEGIN:VCALENDAR
VERSION:2.0
PRODID:-//ChamberMaster//Event Calendar 2.0//EN
METHOD:PUBLISH
X-PUBLISHED-TTL:P3D
REFRESH-INTERVAL:P3D
CALSCALE:GREGORIAN
BEGIN:VEVENT
DTSTART:20210527T160000Z
DTEND:20210527T170000Z
X-MICROSOFT-CDO-ALLDAYEVENT:FALSE
SUMMARY:RC - Quilter's Cottage
DESCRIPTION:Join us for a Ribbon Cutting ceremony to help Quilter's Cottage celebrate their new location!
X-ALT-DESC;FMTTYPE=text/html:Join us for a Ribbon Cutting ceremony to help <a href="https://www.facebook.com/QuiltersCottage">Quilter&#39\;s Cottage</a> celebrate their new location!
LOCATION:Quilter's Cottage Hilltop Mall 5003 2nd Ave.\, Ste 5 Kearney NE
UID:e.1404.19314
SEQUENCE:3
DTSTAMP:20260424T081101Z
URL:https://members.kearneycoc.org/events/details/rc-quilter-s-cottage-19314
END:VEVENT

END:VCALENDAR
