BEGIN:VCALENDAR
VERSION:2.0
PRODID:-//ChamberMaster//Event Calendar 2.0//EN
METHOD:PUBLISH
X-PUBLISHED-TTL:P3D
REFRESH-INTERVAL:P3D
CALSCALE:GREGORIAN
BEGIN:VEVENT
DTSTART:20191010T210000Z
DTEND:20191010T213000Z
X-MICROSOFT-CDO-ALLDAYEVENT:FALSE
SUMMARY:RC - Real Deals
DESCRIPTION:Join us for a Ribbon Cutting ceremony for Real Deals!
X-ALT-DESC;FMTTYPE=text/html:Join us for a Ribbon Cutting ceremony for Real Deals!
LOCATION:2102 E Hwy 30\, Ste 1
UID:e.1404.17878
SEQUENCE:3
DTSTAMP:20260425T163713Z
URL:https://members.kearneycoc.org/events/details/rc-real-deals-17878
END:VEVENT

END:VCALENDAR
