BEGIN:VCALENDAR
VERSION:2.0
PRODID:-//ChamberMaster//Event Calendar 2.0//EN
METHOD:PUBLISH
X-PUBLISHED-TTL:P3D
REFRESH-INTERVAL:P3D
CALSCALE:GREGORIAN
BEGIN:VEVENT
DTSTART:20211014T200000Z
DTEND:20211014T210000Z
X-MICROSOFT-CDO-ALLDAYEVENT:FALSE
SUMMARY:RC - RMV Construction
DESCRIPTION:Join us for a Ribbon Cutting ceremony to celebrate the new location of RMV Construction!
X-ALT-DESC;FMTTYPE=text/html:Join us for a Ribbon Cutting ceremony to celebrate the new location of RMV Construction!
LOCATION:1515 E 11th St. Kearney\, NE 68847
UID:e.1404.19404
SEQUENCE:3
DTSTAMP:20260423T230758Z
URL:https://members.kearneycoc.org/events/details/rc-rmv-construction-19404
END:VEVENT

END:VCALENDAR
