BEGIN:VCALENDAR
VERSION:2.0
PRODID:-//ChamberMaster//Event Calendar 2.0//EN
METHOD:PUBLISH
X-PUBLISHED-TTL:P3D
REFRESH-INTERVAL:P3D
CALSCALE:GREGORIAN
BEGIN:VEVENT
DTSTART:20160824T200000Z
DTEND:20160824T203000Z
X-MICROSOFT-CDO-ALLDAYEVENT:FALSE
SUMMARY:RC: Rustic Patch
DESCRIPTION:Join us for a ribbon cutting ceremony for the new location of The Rustic Patch!
X-ALT-DESC;FMTTYPE=text/html:Join us for a ribbon cutting ceremony for the new location of The Rustic Patch!
LOCATION:2110 Central Avenue
UID:e.1404.8942
SEQUENCE:3
DTSTAMP:20260421T152812Z
URL:https://members.kearneycoc.org/events/details/rc-rustic-patch-08-24-2016-8942
END:VEVENT

END:VCALENDAR
