BEGIN:VCALENDAR
VERSION:2.0
PRODID:-//ChamberMaster//Event Calendar 2.0//EN
METHOD:PUBLISH
X-PUBLISHED-TTL:P3D
REFRESH-INTERVAL:P3D
CALSCALE:GREGORIAN
BEGIN:VEVENT
DTSTART:20201015T210000Z
DTEND:20201015T213000Z
X-MICROSOFT-CDO-ALLDAYEVENT:FALSE
SUMMARY:RC - S.A.M. Que and Catering
DESCRIPTION:Join us for a Ribbon Cutting ceremony for the new location of S.A.M. Que and Catering!
X-ALT-DESC;FMTTYPE=text/html:Join us for a Ribbon Cutting ceremony for the new location of <a href="https://www.facebook.com/SAM-Que-and-Catering-683819165160062">S.A.M. Que and Catering</a>!
LOCATION:324 3rd Ave. Kearney NE
UID:e.1404.18732
SEQUENCE:3
DTSTAMP:20260424T204718Z
URL:https://members.kearneycoc.org/events/details/rc-s-a-m-que-and-catering-18732
END:VEVENT

END:VCALENDAR
