BEGIN:VCALENDAR
VERSION:2.0
PRODID:-//ChamberMaster//Event Calendar 2.0//EN
METHOD:PUBLISH
X-PUBLISHED-TTL:P3D
REFRESH-INTERVAL:P3D
CALSCALE:GREGORIAN
BEGIN:VEVENT
DTSTART:20160919T140000Z
DTEND:20160919T143000Z
X-MICROSOFT-CDO-ALLDAYEVENT:FALSE
SUMMARY:RC: Sage Creek Integrative Health
DESCRIPTION:Join us in welcoming Dr. Mindy Barratt to Kearney! Dr. Barratt specializes in Osteopathic and Family Medicine. Let's give her a warm welcome at her ribbon cutting ceremony!
X-ALT-DESC;FMTTYPE=text/html:Join us in welcoming Dr. Mindy Barratt to Kearney! Dr. Barratt specializes in Osteopathic and Family Medicine. Let&#39\;s give her a warm welcome at her ribbon cutting ceremony!
LOCATION:304 W 39th Street Kearney\, NE
UID:e.1404.9007
SEQUENCE:3
DTSTAMP:20260421T140416Z
URL:https://members.kearneycoc.org/events/details/rc-sage-creek-integrative-health-9007
END:VEVENT

END:VCALENDAR
