BEGIN:VCALENDAR
VERSION:2.0
PRODID:-//ChamberMaster//Event Calendar 2.0//EN
METHOD:PUBLISH
X-PUBLISHED-TTL:P3D
REFRESH-INTERVAL:P3D
CALSCALE:GREGORIAN
BEGIN:VEVENT
DTSTART:20150521T173000Z
DTEND:20150521T180000Z
X-MICROSOFT-CDO-ALLDAYEVENT:FALSE
SUMMARY:RC: Sayler Screen Printing
DESCRIPTION:Join us for a Ribbon Cutting Ceremony followed by Free Food\, Fun and Giveaways!
X-ALT-DESC;FMTTYPE=text/html:Join us for a Ribbon Cutting Ceremony followed by Free Food\, Fun and Giveaways!
LOCATION:1923 Central Ave
UID:e.1404.6231
SEQUENCE:3
DTSTAMP:20260422T165100Z
URL:https://members.kearneycoc.org/events/details/rc-sayler-screen-printing-05-21-2015-6231
END:VEVENT

END:VCALENDAR
