BEGIN:VCALENDAR
VERSION:2.0
PRODID:-//ChamberMaster//Event Calendar 2.0//EN
METHOD:PUBLISH
X-PUBLISHED-TTL:P3D
REFRESH-INTERVAL:P3D
CALSCALE:GREGORIAN
BEGIN:VEVENT
DTSTART:20190607T213000Z
DTEND:20190607T220000Z
X-MICROSOFT-CDO-ALLDAYEVENT:FALSE
SUMMARY:RC - Shopping Tripps
DESCRIPTION:Join us for a Ribbon Cutting ceremony for Shopping Tripps new location!
X-ALT-DESC;FMTTYPE=text/html:Join us for a Ribbon Cutting ceremony for Shopping Tripps new location!
LOCATION:5915 2nd Ave.\, Suite 1
UID:e.1404.15974
SEQUENCE:3
DTSTAMP:20260426T004000Z
URL:https://members.kearneycoc.org/events/details/rc-shopping-tripps-15974
END:VEVENT

END:VCALENDAR
