BEGIN:VCALENDAR
VERSION:2.0
PRODID:-//ChamberMaster//Event Calendar 2.0//EN
METHOD:PUBLISH
X-PUBLISHED-TTL:P3D
REFRESH-INTERVAL:P3D
CALSCALE:GREGORIAN
BEGIN:VEVENT
DTSTART:20150812T210000Z
DTEND:20150812T213000Z
X-MICROSOFT-CDO-ALLDAYEVENT:FALSE
SUMMARY:RC: Smallcakes of Kearney
DESCRIPTION:Join us in a ribbon cutting celebration for the new Smallcakes of Kearney! They will have refreshments and the best part- samples of their amazing cupcakes!
X-ALT-DESC;FMTTYPE=text/html:Join us&nbsp\;in&nbsp\;a ribbon cutting celebration for the new Smallcakes of Kearney! They will have refreshments and the best part- samples of their amazing cupcakes!
LOCATION:Hilltop Mall
UID:e.1404.6666
SEQUENCE:3
DTSTAMP:20260422T114908Z
URL:https://members.kearneycoc.org/events/details/rc-smallcakes-of-kearney-08-12-2015-6666
END:VEVENT

END:VCALENDAR
