BEGIN:VCALENDAR
VERSION:2.0
PRODID:-//ChamberMaster//Event Calendar 2.0//EN
METHOD:PUBLISH
X-PUBLISHED-TTL:P3D
REFRESH-INTERVAL:P3D
CALSCALE:GREGORIAN
BEGIN:VEVENT
DTSTART:20151216T220000Z
DTEND:20151216T223000Z
X-MICROSOFT-CDO-ALLDAYEVENT:FALSE
SUMMARY:RC: SpeedConnect
DESCRIPTION:Join us in a ribbon cutting ceremony for SpeedConnect's new location! Lt. Governor Mike Foley will be there to kick off the grand opening festivities. All day specials\, drawings for prizes and food and beverages catered by Hy-Vee. Don't miss it!
X-ALT-DESC;FMTTYPE=text/html:Join us in a ribbon cutting ceremony for SpeedConnect&#39\;s new location! Lt. Governor Mike Foley will be there to kick off the grand opening festivities. All day specials\, drawings for prizes and food and beverages catered by Hy-Vee. Don&#39\;t miss it!
LOCATION:2715 2nd Ave\, Ste C
UID:e.1404.7060
SEQUENCE:3
DTSTAMP:20260422T064529Z
URL:https://members.kearneycoc.org/events/details/rc-speedconnect-12-16-2015-7060
END:VEVENT

END:VCALENDAR
