BEGIN:VCALENDAR
VERSION:2.0
PRODID:-//ChamberMaster//Event Calendar 2.0//EN
METHOD:PUBLISH
X-PUBLISHED-TTL:P3D
REFRESH-INTERVAL:P3D
CALSCALE:GREGORIAN
BEGIN:VEVENT
DTSTART:20260511T210000Z
DTEND:20260511T220000Z
X-MICROSOFT-CDO-ALLDAYEVENT:FALSE
SUMMARY:RC - Tasty Bowl
DESCRIPTION:Join us for the Ribbon Cutting Ceremony for Tasty Bowl\, located at 221 11th Ave.
X-ALT-DESC;FMTTYPE=text/html:Join us for the Ribbon Cutting Ceremony for Tasty Bowl\, located at 221 11th Ave.
LOCATION:221 11th Ave\, Suite A
UID:e.1404.26283
SEQUENCE:3
DTSTAMP:20260426T025825Z
URL:https://members.kearneycoc.org/events/details/rc-tasty-bowl-26283
END:VEVENT

END:VCALENDAR
