BEGIN:VCALENDAR
VERSION:2.0
PRODID:-//ChamberMaster//Event Calendar 2.0//EN
METHOD:PUBLISH
X-PUBLISHED-TTL:P3D
REFRESH-INTERVAL:P3D
CALSCALE:GREGORIAN
BEGIN:VEVENT
DTSTART:20151117T220000Z
DTEND:20151117T230000Z
X-MICROSOFT-CDO-ALLDAYEVENT:FALSE
SUMMARY:RC: Team Concepts
DESCRIPTION:Join us is a  Ribbon Cutting and Grand Opening of Team Concepts new Leadership Development Center\, Tuesday\, Nov. 17 at 4:00 p.m.\n\nHors d' oeuvres will be provided by Sozo American Cuisine! You don't want to miss it!
X-ALT-DESC;FMTTYPE=text/html:<span style="font-family:arial\;"><span style="color: rgb(20\, 24\, 35)\; line-height: 19.32px\; background-color: rgb(255\, 255\, 255)\;">Join us is a &nbsp\;Ribbon Cutting and Grand Opening of Team Concepts new Leadership Development Center\, Tuesday\, Nov. 17&nbsp\;at 4:00 p.m.<br />\nHors&nbsp\;d&#39\; oeuvres&nbsp\;will be provided by Sozo American Cuisine! You don&#39\;t want to miss it!</span></span>
LOCATION:301 Central Avenue
UID:e.1404.7050
SEQUENCE:3
DTSTAMP:20260422T083527Z
URL:https://members.kearneycoc.org/events/details/rc-team-concepts-11-17-2015-7050
END:VEVENT

END:VCALENDAR
