BEGIN:VCALENDAR
VERSION:2.0
PRODID:-//ChamberMaster//Event Calendar 2.0//EN
METHOD:PUBLISH
X-PUBLISHED-TTL:P3D
REFRESH-INTERVAL:P3D
CALSCALE:GREGORIAN
BEGIN:VEVENT
DTSTART:20200130T220000Z
DTEND:20200130T223000Z
X-MICROSOFT-CDO-ALLDAYEVENT:FALSE
SUMMARY:RC - TFI Family Services
DESCRIPTION:Join us for a Ribbon Cutting ceremony for TFI Family Services! Open house to follow until 7:00 p.m.
X-ALT-DESC;FMTTYPE=text/html:Join us for a Ribbon Cutting ceremony for <a href="https://tfifamily.org/">TFI Family Services</a>! Open house to follow until 7:00 p.m.
LOCATION:2314 Central Avenue\, Suite 4
UID:e.1404.18299
SEQUENCE:3
DTSTAMP:20260425T114041Z
URL:https://members.kearneycoc.org/events/details/rc-tfi-family-services-18299
END:VEVENT

END:VCALENDAR
