BEGIN:VCALENDAR
VERSION:2.0
PRODID:-//ChamberMaster//Event Calendar 2.0//EN
METHOD:PUBLISH
X-PUBLISHED-TTL:P3D
REFRESH-INTERVAL:P3D
CALSCALE:GREGORIAN
BEGIN:VEVENT
DTSTART:20210205T180000Z
DTEND:20210205T190000Z
X-MICROSOFT-CDO-ALLDAYEVENT:FALSE
SUMMARY:RC - The Brickwalk Gallery
DESCRIPTION:Join us for a Ribbon Cutting ceremony for The Brickwalk Gallery!
X-ALT-DESC;FMTTYPE=text/html:Join us for a Ribbon Cutting ceremony for <a href="https://www.thebrickwalkproject.com/">The Brickwalk Gallery</a>!&nbsp\;
LOCATION:2008 Ave A\, Suite C Kearney NE
UID:e.1404.19074
SEQUENCE:3
DTSTAMP:20260424T142038Z
URL:https://members.kearneycoc.org/events/details/rc-the-brickwalk-gallery-19074
END:VEVENT

END:VCALENDAR
