BEGIN:VCALENDAR
VERSION:2.0
PRODID:-//ChamberMaster//Event Calendar 2.0//EN
METHOD:PUBLISH
X-PUBLISHED-TTL:P3D
REFRESH-INTERVAL:P3D
CALSCALE:GREGORIAN
BEGIN:VEVENT
DTSTART:20210714T210000Z
DTEND:20210714T220000Z
X-MICROSOFT-CDO-ALLDAYEVENT:FALSE
SUMMARY:RC - The Cup
DESCRIPTION:Celebrate the remodel at The Cup!
X-ALT-DESC;FMTTYPE=text/html:Celebrate the remodel at The Cup!
LOCATION:12 E 21st Street Kearney
UID:e.1404.19335
SEQUENCE:3
DTSTAMP:20260424T035215Z
URL:https://members.kearneycoc.org/events/details/rc-the-cup-19335
END:VEVENT

END:VCALENDAR
