BEGIN:VCALENDAR
VERSION:2.0
PRODID:-//ChamberMaster//Event Calendar 2.0//EN
METHOD:PUBLISH
X-PUBLISHED-TTL:P3D
REFRESH-INTERVAL:P3D
CALSCALE:GREGORIAN
BEGIN:VEVENT
DTSTART:20191121T223000Z
DTEND:20191121T230000Z
X-MICROSOFT-CDO-ALLDAYEVENT:FALSE
SUMMARY:RC - the denim bar
DESCRIPTION:Join us for a Ribbon Cutting ceremony for the denim bar!
X-ALT-DESC;FMTTYPE=text/html:Join us for a Ribbon Cutting ceremony for the denim bar!
LOCATION:2220 Central Ave
UID:e.1404.18147
SEQUENCE:3
DTSTAMP:20260425T150156Z
URL:https://members.kearneycoc.org/events/details/rc-the-denim-bar-18147
END:VEVENT

END:VCALENDAR
