BEGIN:VCALENDAR
VERSION:2.0
PRODID:-//ChamberMaster//Event Calendar 2.0//EN
METHOD:PUBLISH
X-PUBLISHED-TTL:P3D
REFRESH-INTERVAL:P3D
CALSCALE:GREGORIAN
BEGIN:VEVENT
DTSTART:20190604T200000Z
DTEND:20190604T203000Z
X-MICROSOFT-CDO-ALLDAYEVENT:FALSE
SUMMARY:RC - The Pathway by 281 Studios
DESCRIPTION:Join us for a Ribbon Cutting ceremony for The Pathway by 281 Studios!
X-ALT-DESC;FMTTYPE=text/html:Join us for a Ribbon Cutting ceremony for <a href="https://www.findthepathway.com/?fbclid=IwAR3MtkHD8PrkcFV0qcKi3RfYt3YY9mXlPmvruIhEUVwam6xJ0X6BBIjm9F0">The Pathway</a> by 281 Studios!
LOCATION:Kearney Chamber of Commerce
UID:e.1404.15979
SEQUENCE:3
DTSTAMP:20260425T230727Z
URL:https://members.kearneycoc.org/events/details/rc-the-pathway-by-281-studios-15979
END:VEVENT

END:VCALENDAR
