BEGIN:VCALENDAR
VERSION:2.0
PRODID:-//ChamberMaster//Event Calendar 2.0//EN
METHOD:PUBLISH
X-PUBLISHED-TTL:P3D
REFRESH-INTERVAL:P3D
CALSCALE:GREGORIAN
BEGIN:VEVENT
DTSTART:20151023T200000Z
DTEND:20151023T203000Z
X-MICROSOFT-CDO-ALLDAYEVENT:FALSE
SUMMARY:RC: The Rustic Patch
DESCRIPTION:The Rustic Patch is a quaint country store located Downtown on the Bricks.\n\nThe store opened in June and has become known for it's warm and cozy\n\natmosphere.\n\n\n\nAs you wander through The Rustic Patch\, you will find cupboards and\n\nshelving full of treasures\, with handmade goods\, stitcheries\, signs\,\n\npillows\, quilts\, candles\, wreaths\, seasonal items and everything to make\n\nyour home a little bit of heaven.\n\n\n\nI love creating\, designing and personalizing Rustic Door Charms. These make\n\nmy heart so happy to have these hung on each and everyone of your doors.\n\nThe perfect addition to your loving homes to welcome your family and\n\nfriends.\n\n\n\nPainting & Patching with friends is our newest addition at our location.\n\nThese are fun events where you can design\, create and paint your very own\n\ndecor item.\n\n\n\n"We put the Warmth into Country Living"....
X-ALT-DESC;FMTTYPE=text/html:<span style="font-family:times new roman\,serif\;"><span style="font-size:12.0pt\;">The Rustic Patch is a quaint country store located Downtown on the Bricks.<br />\nThe store opened in June and has become known for it&#39\;s warm and cozy<br />\natmosphere.<br />\n<br />\nAs you wander through The Rustic Patch\, you will find cupboards and<br />\nshelving full of treasures\, with handmade goods\, stitcheries\, signs\,<br />\npillows\, quilts\, candles\, wreaths\, seasonal items and everything to make<br />\nyour home a little bit of heaven.<br />\n<br />\nI love creating\, designing and personalizing Rustic Door Charms. These make<br />\nmy heart so happy to have these hung on each and everyone of your doors.<br />\nThe perfect addition to your loving homes to welcome your family and<br />\nfriends.<br />\n<br />\nPainting &amp\; Patching with friends is our newest addition at our location.<br />\nThese are fun events where you can design\, create and paint your very own<br />\ndecor item.<br />\n<br />\n&quot\;We put the Warmth into Country Living&quot\;....</span></span><br />\n&nbsp\;
LOCATION:2207 Central Avenue
UID:e.1404.7012
SEQUENCE:3
DTSTAMP:20260422T083354Z
URL:https://members.kearneycoc.org/events/details/rc-the-rustic-patch-10-23-2015-7012
END:VEVENT

END:VCALENDAR
