BEGIN:VCALENDAR
VERSION:2.0
PRODID:-//ChamberMaster//Event Calendar 2.0//EN
METHOD:PUBLISH
X-PUBLISHED-TTL:P3D
REFRESH-INTERVAL:P3D
CALSCALE:GREGORIAN
BEGIN:VEVENT
DTSTART:20190329T180000Z
DTEND:20190329T183000Z
X-MICROSOFT-CDO-ALLDAYEVENT:FALSE
SUMMARY:RC - The Solid Rock
DESCRIPTION:Join us for a Ribbon Cutting ceremony for The Solid Rock! They will be celebrating their Grand Reopening on Friday and Saturday.
X-ALT-DESC;FMTTYPE=text/html:Join us for a Ribbon Cutting ceremony for The Solid Rock! They will be celebrating their Grand Reopening on Friday and Saturday.
LOCATION:The Solid Rock 2010 Central Ave
UID:e.1404.15419
SEQUENCE:3
DTSTAMP:20260426T032335Z
URL:https://members.kearneycoc.org/events/details/rc-the-solid-rock-15419
END:VEVENT

END:VCALENDAR
