BEGIN:VCALENDAR
VERSION:2.0
PRODID:-//ChamberMaster//Event Calendar 2.0//EN
METHOD:PUBLISH
X-PUBLISHED-TTL:P3D
REFRESH-INTERVAL:P3D
CALSCALE:GREGORIAN
BEGIN:VEVENT
DTSTART:20191016T210000Z
DTEND:20191016T220000Z
X-MICROSOFT-CDO-ALLDAYEVENT:FALSE
SUMMARY:RC - The Village
DESCRIPTION:Join us for a Ribbon Cutting ceremony for the Village\, formerly The Boxcar. Open House to follow from 5:00-7:00 p.m.
X-ALT-DESC;FMTTYPE=text/html:Join us for a Ribbon Cutting ceremony for the Village\, formerly The Boxcar. Open House to follow from 5:00-7:00 p.m.&nbsp\;
LOCATION:1920 A Ave.
UID:e.1404.18190
SEQUENCE:3
DTSTAMP:20260425T163824Z
URL:https://members.kearneycoc.org/events/details/rc-the-village-18190
END:VEVENT

END:VCALENDAR
