BEGIN:VCALENDAR
VERSION:2.0
PRODID:-//ChamberMaster//Event Calendar 2.0//EN
METHOD:PUBLISH
X-PUBLISHED-TTL:P3D
REFRESH-INTERVAL:P3D
CALSCALE:GREGORIAN
BEGIN:VEVENT
DTSTART:20210827T230000Z
DTEND:20210827T233000Z
X-MICROSOFT-CDO-ALLDAYEVENT:FALSE
SUMMARY:RC - Three Trails Classic Series Draft Horse Show
DESCRIPTION:Don't miss the first annual Three Trails Classic Series Draft Horse Show!\n\nHitches from across the country will meet to square off at the premier draft horse show at Buffalo County Fairgrounds\, LandMark Implement Arena. Join us at 6:00 to kick off the events with a Ribbon Cutting to celebrate!\n\n \n\nFriday\, August 27th:\n\nOpen to the Public 1:30 pm   4:30 pm\n\nPaid entry show 6:00 pm   9:00 pm\n\n \n\nSaturday\, August 28th:\n\nOpen to the Public 1:30 pm   4:30 pm\n\nPaid entry show 6:00 pm   9:00 pm\n\n \n\nSunday\, August 28th:\n\nPaid entry show 1:30 pm   4:30 pm\n\n\n$15 for adults\n\n$8 for   12 yr\n\n2 yr and under are free\n\n\n\nhttps://www.facebook.com/3TrailsClassic/
X-ALT-DESC;FMTTYPE=text/html:<div class="kvgmc6g5 cxmmr5t8 oygrvhab hcukyx3x c1et5uql" font-size:="" helvetica="" style="color: rgb(20\, 24\, 39)\; font-family: ">\n<div class="kvgmc6g5 cxmmr5t8 oygrvhab hcukyx3x c1et5uql">Don&rsquo\;t miss the first annual Three Trails Classic Series Draft Horse Show!</div>\n\n<div class="o9v6fnle cxmmr5t8 oygrvhab hcukyx3x c1et5uql">Hitches from across the country will meet to square off at the premier draft horse show at Buffalo County Fairgrounds\, LandMark Implement Arena. Join us at 6:00 to kick off the events&nbsp\;with a Ribbon Cutting to celebrate!</div>\n\n<div>&nbsp\;</div>\n\n<div class="o9v6fnle cxmmr5t8 oygrvhab hcukyx3x c1et5uql"><span style="font-weight: bolder\;">Friday\, August 27th:</span><br />\nOpen to the Public 1:30 pm &ndash\; 4:30 pm<br />\nPaid entry show 6:00 pm &ndash\; 9:00 pm<br />\n&nbsp\;</div>\n\n<div class="o9v6fnle cxmmr5t8 oygrvhab hcukyx3x c1et5uql"><span style="font-weight: bolder\;">Saturday\, August 28th:</span><br />\nOpen to the Public 1:30 pm &ndash\; 4:30 pm<br />\nPaid entry show 6:00 pm &ndash\; 9:00 pm<br />\n&nbsp\;</div>\n\n<div class="o9v6fnle cxmmr5t8 oygrvhab hcukyx3x c1et5uql"><span style="font-weight: bolder\;">Sunday\, August 28th:</span><br />\nPaid entry show 1:30 pm &ndash\; 4:30 pm</div>\n</div>\n\n<div font-size:="" helvetica="" style="color: rgb(20\, 24\, 39)\; font-family: ">$15 for adults<br />\n$8 for &lt\; 12 yr<br />\n2 yr&nbsp\;and under are free<br />\n<br />\n<a href="https://www.facebook.com/3TrailsClassic/">https://www.facebook.com/3TrailsClassic/</a></div>\n
LOCATION:LandMark Implement Arena at the Buffalo County Fairgrounds.
UID:e.1404.19372
SEQUENCE:3
DTSTAMP:20260424T035758Z
URL:https://members.kearneycoc.org/events/details/rc-three-trails-classic-series-draft-horse-show-19372
END:VEVENT

END:VCALENDAR
