BEGIN:VCALENDAR
VERSION:2.0
PRODID:-//ChamberMaster//Event Calendar 2.0//EN
METHOD:PUBLISH
X-PUBLISHED-TTL:P3D
REFRESH-INTERVAL:P3D
CALSCALE:GREGORIAN
BEGIN:VEVENT
DTSTART:20140502T220000Z
DTEND:20140502T230000Z
X-MICROSOFT-CDO-ALLDAYEVENT:FALSE
SUMMARY:RC: Troll's Den
DESCRIPTION:Join us in celebrating the new location of the Troll's Den! They are excited to announce their expanded retail and game space. Stop by for Free Refreshments and to try some of their games!\n\n\n\nSee you there!
X-ALT-DESC;FMTTYPE=text/html:Join us in celebrating the new location of the&nbsp\;Troll&#39\;s Den! They are excited to announce their expanded retail and game space. Stop by for Free Refreshments and to try some of their games!<br />\n<br />\nSee you there!
LOCATION:3815 2nd Ave Kearney\, NE
UID:e.1404.4673
SEQUENCE:3
DTSTAMP:20260423T131225Z
URL:https://members.kearneycoc.org/events/details/rc-troll-s-den-05-02-2014-4673
END:VEVENT

END:VCALENDAR
