BEGIN:VCALENDAR
VERSION:2.0
PRODID:-//ChamberMaster//Event Calendar 2.0//EN
METHOD:PUBLISH
X-PUBLISHED-TTL:P3D
REFRESH-INTERVAL:P3D
CALSCALE:GREGORIAN
BEGIN:VEVENT
DTSTART:20210820T180000Z
DTEND:20210820T190000Z
X-MICROSOFT-CDO-ALLDAYEVENT:FALSE
SUMMARY:RC - U Med Spa
DESCRIPTION:Join us for a Ribbon Cutting to celebrate the Grand Opening of U Med Spa of Kearney!
X-ALT-DESC;FMTTYPE=text/html:Join us for a Ribbon Cutting to celebrate the Grand Opening of U Med Spa of Kearney!
LOCATION:610 Talmadge Street Kearney\, NE 68845
UID:e.1404.19341
SEQUENCE:3
DTSTAMP:20260424T035339Z
URL:https://members.kearneycoc.org/events/details/rc-u-med-spa-19341
END:VEVENT

END:VCALENDAR
