BEGIN:VCALENDAR
VERSION:2.0
PRODID:-//ChamberMaster//Event Calendar 2.0//EN
METHOD:PUBLISH
X-PUBLISHED-TTL:P3D
REFRESH-INTERVAL:P3D
CALSCALE:GREGORIAN
BEGIN:VEVENT
DTSTART:20190807T210000Z
DTEND:20190807T213000Z
X-MICROSOFT-CDO-ALLDAYEVENT:FALSE
SUMMARY:RC - U-Save Pharmacy
DESCRIPTION:Join us for a Ribbon Cutting ceremony for U-Save Pharmacy\, which has reopened on 2nd Ave!
X-ALT-DESC;FMTTYPE=text/html:Join us for a Ribbon Cutting ceremony for U-Save Pharmacy\, which has reopened on 2nd Ave!
LOCATION:3611 2nd Ave
UID:e.1404.16576
SEQUENCE:3
DTSTAMP:20260425T212821Z
URL:https://members.kearneycoc.org/events/details/rc-u-save-pharmacy-16576
END:VEVENT

END:VCALENDAR
