BEGIN:VCALENDAR
VERSION:2.0
PRODID:-//ChamberMaster//Event Calendar 2.0//EN
METHOD:PUBLISH
X-PUBLISHED-TTL:P3D
REFRESH-INTERVAL:P3D
CALSCALE:GREGORIAN
BEGIN:VEVENT
DTSTART:20140827T210000Z
DTEND:20140827T213000Z
X-MICROSOFT-CDO-ALLDAYEVENT:FALSE
SUMMARY:RC: UNK Wellness Center Grand Opening
DESCRIPTION:The public is welcome to attend a ribbon-cutting and open house with tours and demonstrations at UNK's new Wellness Center. Free prizes and refreshments.
X-ALT-DESC;FMTTYPE=text/html:The public is welcome to attend a ribbon-cutting and open house with tours and demonstrations at UNK&#39\;s new Wellness Center. Free prizes and refreshments.
LOCATION:Northeast corner of Cushing Coliseum\, off University Drive\, University of Nebraska at Kearney
UID:e.1404.5162
SEQUENCE:3
DTSTAMP:20260423T084649Z
URL:https://members.kearneycoc.org/events/details/rc-unk-wellness-center-grand-opening-08-27-2014-5162
END:VEVENT

END:VCALENDAR
