BEGIN:VCALENDAR
VERSION:2.0
PRODID:-//ChamberMaster//Event Calendar 2.0//EN
METHOD:PUBLISH
X-PUBLISHED-TTL:P3D
REFRESH-INTERVAL:P3D
CALSCALE:GREGORIAN
BEGIN:VEVENT
DTSTART:20210317T210000Z
DTEND:20210317T220000Z
X-MICROSOFT-CDO-ALLDAYEVENT:FALSE
SUMMARY:RC - Upper Room Brewery
DESCRIPTION:Join us for a Ribbon Cutting ceremony for Upper Room Brewery!
X-ALT-DESC;FMTTYPE=text/html:Join us for a Ribbon Cutting ceremony for <a href="https://www.facebook.com/Upper-Room-Brewery-204604490135300/?ref=page_internal">Upper Room Brewery</a>!
LOCATION:1540 W 56th St. Ste D Kearney NE
UID:e.1404.19073
SEQUENCE:3
DTSTAMP:20260424T140130Z
URL:https://members.kearneycoc.org/events/details/rc-upper-room-brewery-19073
END:VEVENT

END:VCALENDAR
