BEGIN:VCALENDAR
VERSION:2.0
PRODID:-//ChamberMaster//Event Calendar 2.0//EN
METHOD:PUBLISH
X-PUBLISHED-TTL:P3D
REFRESH-INTERVAL:P3D
CALSCALE:GREGORIAN
BEGIN:VEVENT
DTSTART:20191107T220000Z
DTEND:20191107T230000Z
X-MICROSOFT-CDO-ALLDAYEVENT:FALSE
SUMMARY:RC - Viaero Wireless
DESCRIPTION:Join us for a Ribbon Cutting ceremony for the new location of Viaero Wireless! Stay for an Open House from 4:00-6:00 p.m.
X-ALT-DESC;FMTTYPE=text/html:Join us for a Ribbon Cutting ceremony for the new location of Viaero Wireless! Stay for an Open House from 4:00-6:00 p.m.&nbsp\;
LOCATION:3821 2nd Ave.
UID:e.1404.18148
SEQUENCE:3
DTSTAMP:20260425T145926Z
URL:https://members.kearneycoc.org/events/details/rc-viaero-wireless-18148
END:VEVENT

END:VCALENDAR
