BEGIN:VCALENDAR
VERSION:2.0
PRODID:-//ChamberMaster//Event Calendar 2.0//EN
METHOD:PUBLISH
X-PUBLISHED-TTL:P3D
REFRESH-INTERVAL:P3D
CALSCALE:GREGORIAN
BEGIN:VEVENT
DTSTART:20150212T220000Z
DTEND:20150212T223000Z
X-MICROSOFT-CDO-ALLDAYEVENT:FALSE
SUMMARY:RC-Ward Laboratories
DESCRIPTION:Ward Laboratories\, Inc. will host an open house to commemorate the opening for their 16\,900 square foot expansion\, according to founder and President Dr. Ray Ward.\n\n            The open house will be Thursday\, February 12th from 1:00 to 7:00 p.m. with the Kearney Area Chamber of Commerce conducting grand opening ceremonies at 4:00 p.m.\n\n            The new addition will be used primarily to log in client samples and prepare them for testing\, Dr. Ward said.  Ward Laboratories\, Inc. facilities now encompass 32\,650 square foot.  Ward Laboratories began in Kearney in 1983 in a 3\,500 square foot laboratory at Rovar Park.  The present building was constructed in 1988-89 and this marks the second building addition according to Dr. Ward.  The latest addition more than doubles the company's operating space.\n\n            Ward Laboratories\, Inc. analyzes soil\, water\, feed\, plant\, manure\, fertilizer\, wastewater and biological testing for soil health.  In 2014 the laboratory analyzed 323\,000 samples.  Since the laboratory's inception\, more than 4\,417\,000 samples have been analyzed from nearly every state and seven foreign countries Dr. Ward said.Today\, Ward Laboratories\, Inc. employs 32 full time employees and 20 part time workers during the fall and early winter with an annual payroll of $1.77 million. Ward Laboratories\, Inc. is located at 4007 Cherry Avenue north of Eaton Corporation.
X-ALT-DESC;FMTTYPE=text/html:<span style="font-size:12.0pt\;">Ward Laboratories\, Inc. will host an open house to commemorate the opening for their 16\,900 square foot expansion\, according to founder and President Dr. Ray Ward.</span><br />\n<span style="font-size:12.0pt\;">&nbsp\;&nbsp\;&nbsp\;&nbsp\;&nbsp\;&nbsp\;&nbsp\;&nbsp\;&nbsp\;&nbsp\;&nbsp\; The open house will be Thursday\, February 12<sup>th</sup> from 1:00 to 7:00 p.m. with the Kearney Area Chamber of Commerce conducting grand opening ceremonies at 4:00 p.m.</span><br />\n<span style="font-size:12.0pt\;">&nbsp\;&nbsp\;&nbsp\;&nbsp\;&nbsp\;&nbsp\;&nbsp\;&nbsp\;&nbsp\;&nbsp\;&nbsp\; The new addition will be used primarily to log in client samples and prepare them for testing\, Dr. Ward said.&nbsp\; Ward Laboratories\, Inc. facilities now encompass 32\,650 square foot.&nbsp\; Ward Laboratories began in Kearney in 1983 in a 3\,500 square foot laboratory at Rovar Park.&nbsp\; The present building was constructed in 1988-89 and this marks the second building addition according to Dr. Ward.&nbsp\; The latest addition more than doubles the company&rsquo\;s operating space.</span><br />\n<span style="font-size:12.0pt\;">&nbsp\;&nbsp\;&nbsp\;&nbsp\;&nbsp\;&nbsp\;&nbsp\;&nbsp\;&nbsp\;&nbsp\;&nbsp\; Ward Laboratories\, Inc. analyzes soil\, water\, feed\, plant\, manure\, fertilizer\, wastewater and biological testing for soil health.&nbsp\; In 2014 the laboratory analyzed 323\,000 samples.&nbsp\; Since the laboratory&rsquo\;s inception\, more than 4\,417\,000 samples have been analyzed from nearly every state and seven foreign countries Dr. Ward said.</span><span style="font-size:12pt\;">Today\, Ward Laboratories\, Inc. employs 32 full time employees and 20 part time workers during the fall and early winter with an annual payroll of $1.77 million.</span>&nbsp\;<span style="font-size:12pt\;">Ward Laboratories\, Inc. is located at 4007 Cherry Avenue north of Eaton Corporation.</span>
LOCATION:4007 Cherry Avenue
UID:e.1404.5950
SEQUENCE:3
DTSTAMP:20260422T212157Z
URL:https://members.kearneycoc.org/events/details/rc-ward-laboratories-02-12-2015-5950
END:VEVENT

END:VCALENDAR
