BEGIN:VCALENDAR
VERSION:2.0
PRODID:-//ChamberMaster//Event Calendar 2.0//EN
METHOD:PUBLISH
X-PUBLISHED-TTL:P3D
REFRESH-INTERVAL:P3D
CALSCALE:GREGORIAN
BEGIN:VEVENT
DTSTART:20191014T210000Z
DTEND:20191014T220000Z
X-MICROSOFT-CDO-ALLDAYEVENT:FALSE
SUMMARY:RC - Western Inn South
DESCRIPTION:Help us celebrate the recent renovations and flood recovery with the new owners of Western Inn South!
X-ALT-DESC;FMTTYPE=text/html:Help us celebrate the recent renovations and flood recovery with the new owners of Western Inn South!
LOCATION:510 3rd Ave Kearney NE
UID:e.1404.18196
SEQUENCE:3
DTSTAMP:20260425T163938Z
URL:https://members.kearneycoc.org/events/details/rc-western-inn-south-18196
END:VEVENT

END:VCALENDAR
