BEGIN:VCALENDAR
VERSION:2.0
PRODID:-//ChamberMaster//Event Calendar 2.0//EN
METHOD:PUBLISH
X-PUBLISHED-TTL:P3D
REFRESH-INTERVAL:P3D
CALSCALE:GREGORIAN
BEGIN:VEVENT
DTSTART:20191005T143000Z
DTEND:20191005T220000Z
X-MICROSOFT-CDO-ALLDAYEVENT:FALSE
SUMMARY:Real Deals Grand Opening
DESCRIPTION:GRAND OPENING!\n\nWe're a locally-owned home d cor & clothing boutique that's big on positive vibes and small on prices. We hand-pick pieces for every personal style and season\, with new items arriving daily! Be sure to stop and shop often with your family and friends to see our latest finds. You're sure to find pieces you can't and shouldn't live without!
X-ALT-DESC;FMTTYPE=text/html:<span style="color: rgb(28\, 30\, 33)\; font-family: Georgia\, serif\; font-size: 17px\; white-space: pre-wrap\; background-color: rgb(255\, 255\, 255)\;">GRAND OPENING!<br />\nWe&rsquo\;re a locally-owned home d&eacute\;cor &amp\; clothing boutique that&rsquo\;s big on positive vibes and small on prices. We hand-pick pieces for every personal style and season\, with new items arriving daily! Be sure to stop and shop often with your family and friends to see our latest finds. You&rsquo\;re sure to find pieces you can&rsquo\;t and shouldn&rsquo\;t live without!</span>
LOCATION:2102 E HWY 30 Suite 1 Kearney\, Nebraska
UID:e.1404.17920
SEQUENCE:3
DTSTAMP:20260425T164003Z
URL:https://members.kearneycoc.org/events/details/real-deals-grand-opening-17920
END:VEVENT

END:VCALENDAR
