BEGIN:VCALENDAR
VERSION:2.0
PRODID:-//ChamberMaster//Event Calendar 2.0//EN
METHOD:PUBLISH
X-PUBLISHED-TTL:P3D
REFRESH-INTERVAL:P3D
CALSCALE:GREGORIAN
BEGIN:VEVENT
DTSTART:20130512T003000Z
DTEND:20130512T030000Z
X-MICROSOFT-CDO-ALLDAYEVENT:FALSE
SUMMARY:Reggie Shaw
DESCRIPTION:Reggie Shaw\n\n	Saturday May 11 at 7:30 pm\n\n	Kearney Eagles Club\n\n	17 W 24 St\n\n	308-234-2216
X-ALT-DESC;FMTTYPE=text/html:<div style="color: rgb(0\, 0\, 0)\; font-family: Tahoma\, 'Sans Serif'\, Arial\; font-size: small\;">\n	Reggie Shaw</div>\n<div style="color: rgb(0\, 0\, 0)\; font-family: Tahoma\, 'Sans Serif'\, Arial\; font-size: small\;">\n	Saturday May 11 at 7:30 pm</div>\n<div style="color: rgb(0\, 0\, 0)\; font-family: Tahoma\, 'Sans Serif'\, Arial\; font-size: small\;">\n	Kearney Eagles Club</div>\n<div style="color: rgb(0\, 0\, 0)\; font-family: Tahoma\, 'Sans Serif'\, Arial\; font-size: small\;">\n	17 W 24 St</div>\n<div style="color: rgb(0\, 0\, 0)\; font-family: Tahoma\, 'Sans Serif'\, Arial\; font-size: small\;">\n	308-234-2216</div>\n
LOCATION:
UID:e.1404.3191
SEQUENCE:3
DTSTAMP:20260424T102954Z
URL:https://members.kearneycoc.org/events/details/reggie-shaw-05-11-2013-3191
END:VEVENT

END:VCALENDAR
