BEGIN:VCALENDAR
VERSION:2.0
PRODID:-//ChamberMaster//Event Calendar 2.0//EN
METHOD:PUBLISH
X-PUBLISHED-TTL:P3D
REFRESH-INTERVAL:P3D
CALSCALE:GREGORIAN
BEGIN:VEVENT
DTSTART:20140527T160000Z
DTEND:20140527T180000Z
X-MICROSOFT-CDO-ALLDAYEVENT:FALSE
SUMMARY:Relay For Life - Grill Out Event
DESCRIPTION:Join the American Cancer Society on May 27th from 11AM - 1PM as we kick off the Relay For Life season in the American Cancer Society Parking Lot\, 3808 28th Avenue\, Suite E! We will be serving Hot Dogs\, Hamburgers\, Salads\, and Cookies all donated by local partners!! This event is FREE to the public while supplies last\, though donations are accepted.\n\n\n\nAlso\, as the official sponsor of birthdays\, we will have a drawing fro someone to WIN an ice cream cake from Dairy Queen!
X-ALT-DESC;FMTTYPE=text/html:Join the American Cancer Society on May 27th from 11AM - 1PM&nbsp\;as we kick off the Relay For Life season in the American Cancer Society Parking Lot\, 3808 28th&nbsp\;Avenue\, Suite E! We will be serving Hot Dogs\, Hamburgers\, Salads\, and Cookies all donated by local partners!! This event is FREE to the public while supplies last\, though donations are accepted.<br />\n<br />\n<em>Also\, as the official sponsor of birthdays\, we will have a drawing fro someone to WIN an ice cream cake from Dairy Queen!</em>
LOCATION:American Cancer Society Parking Lot 3808 28th Avenue
UID:e.1404.4846
SEQUENCE:3
DTSTAMP:20260423T132948Z
URL:https://members.kearneycoc.org/events/details/relay-for-life-grill-out-event-05-27-2014-4846
END:VEVENT

END:VCALENDAR
