BEGIN:VCALENDAR
VERSION:2.0
PRODID:-//ChamberMaster//Event Calendar 2.0//EN
METHOD:PUBLISH
X-PUBLISHED-TTL:P3D
REFRESH-INTERVAL:P3D
CALSCALE:GREGORIAN
BEGIN:VEVENT
DTSTART:20150612T230000Z
DTEND:20150613T050000Z
X-MICROSOFT-CDO-ALLDAYEVENT:FALSE
SUMMARY:Relay For Life of Buffalo County
DESCRIPTION:The American Cancer Society Relay for Life event is a chance for the community to come together and celebrate the lives of people who have battled cancer\, remember loved ones lost\, and fight back against the disease.
X-ALT-DESC;FMTTYPE=text/html:The American Cancer Society Relay for Life event is a chance for the community to come together and celebrate the lives of people who have battled cancer\, remember loved ones lost\, and fight back against the disease.
LOCATION:Yanney Park 405 Kea West Road Kearney\, NE. 68845
UID:e.1404.6169
SEQUENCE:3
DTSTAMP:20260422T152726Z
URL:https://members.kearneycoc.org/events/details/relay-for-life-of-buffalo-county-06-12-2015-6169
END:VEVENT

END:VCALENDAR
