BEGIN:VCALENDAR
VERSION:2.0
PRODID:-//ChamberMaster//Event Calendar 2.0//EN
METHOD:PUBLISH
X-PUBLISHED-TTL:P3D
REFRESH-INTERVAL:P3D
CALSCALE:GREGORIAN
BEGIN:VEVENT
DTSTART:20121027T000000Z
DTEND:20121027T020000Z
X-MICROSOFT-CDO-ALLDAYEVENT:FALSE
SUMMARY:Repertory Dance Theatre - Time Capsule
DESCRIPTION:Capturing 100 years of modern dance\, Time Capsule features multimedia for each time period and choreography by many of the great dance legends such as Isadora Duncan\, Doris Humphrey\, Daniel Nagrin and Jose Limon.
X-ALT-DESC;FMTTYPE=text/html:<p>\n	Capturing 100 years of modern dance\, Time Capsule features multimedia for each time period and choreography by many of the great dance legends&nbsp\;such as Isadora Duncan\, Doris Humphrey\, Daniel Nagrin and Jose Limon.</p>\n
LOCATION:Merryman Performing Arts Center 225 W. 22nd\, Kearney NE 68845
UID:e.1404.1956
SEQUENCE:3
DTSTAMP:20260425T002340Z
URL:https://members.kearneycoc.org/events/details/repertory-dance-theatre-time-capsule-10-26-2012-1956
END:VEVENT

END:VCALENDAR
