BEGIN:VCALENDAR
VERSION:2.0
PRODID:-//ChamberMaster//Event Calendar 2.0//EN
METHOD:PUBLISH
X-PUBLISHED-TTL:P3D
REFRESH-INTERVAL:P3D
CALSCALE:GREGORIAN
BEGIN:VEVENT
DTSTART:20191020T020000Z
DTEND:20191020T060000Z
X-MICROSOFT-CDO-ALLDAYEVENT:FALSE
SUMMARY:RETRO at JD's 80s Party!
DESCRIPTION:Back to the 80's party with RETRO (80's tribute band and show) 80's costume contest\,themed 80's specials and more! \n\nwww.retrotributeband.com
X-ALT-DESC;FMTTYPE=text/html:<span style="color: rgb(29\, 33\, 41)\; font-family: Helvetica\, Arial\, sans-serif\; font-size: 14px\; white-space: pre-wrap\;">Back to the 80&#39\;s party with RETRO (80&#39\;s tribute band and show) 80&#39\;s costume contest\,themed 80&#39\;s specials and more! </span><br style="color: rgb(29\, 33\, 41)\; font-family: Helvetica\, Arial\, sans-serif\; font-size: 14px\; white-space: pre-wrap\;" />\n<a data-lynx-mode="hover" data-lynx-uri="https://l.facebook.com/l.php?u=http%3A%2F%2Fwww.retrotributeband.com%2F%3Ffbclid%3DIwAR0A-QgOFRBGx9vleby958miFY35n86piWL2BSk0OOiK0RU8-hPqP0SyR68&amp\;h=AT0x9RlzWGZmsVmVE6p02mnLZpSu4h8CsaAC0mcNBUU5ruj_saeEyyP6n4QrWsiaQtW8hxIhXHejvHNB1JXIIivkYf080lKVO7WJ4EAiXV8oQBOkK2wCxYKPLh_cOKwDtZo" href="http://www.retrotributeband.com/?fbclid=IwAR0A-QgOFRBGx9vleby958miFY35n86piWL2BSk0OOiK0RU8-hPqP0SyR68" rel="nofollow noopener" style="color: rgb(56\, 88\, 152)\; cursor: pointer\; text-decoration-line: none\; font-family: Helvetica\, Arial\, sans-serif\; font-size: 14px\; white-space: pre-wrap\;" target="_blank">www.retrotributeband.com</a><span style="color: rgb(29\, 33\, 41)\; font-family: Helvetica\, Arial\, sans-serif\; font-size: 14px\; white-space: pre-wrap\;"> </span>
LOCATION:2023 1st Ave Kearney\, NE 68847
UID:e.1404.17903
SEQUENCE:3
DTSTAMP:20260425T164004Z
URL:https://members.kearneycoc.org/events/details/retro-at-jd-s-80s-party-17903
END:VEVENT

END:VCALENDAR
