BEGIN:VCALENDAR
VERSION:2.0
PRODID:-//ChamberMaster//Event Calendar 2.0//EN
METHOD:PUBLISH
X-PUBLISHED-TTL:P3D
REFRESH-INTERVAL:P3D
CALSCALE:GREGORIAN
BEGIN:VEVENT
DTSTART:20150728T210000Z
DTEND:20150728T220000Z
X-MICROSOFT-CDO-ALLDAYEVENT:FALSE
SUMMARY:Ribbon Cutting: all makes office interiors
DESCRIPTION:Join us for a ribbon cutting ceremony for all makes office interiors and their new location\, followed by an open house with refreshments catered by The Cellar!.
X-ALT-DESC;FMTTYPE=text/html:Join us for a ribbon cutting ceremony&nbsp\;for all makes office interiors and their new location\, followed by an open house with refreshments catered by The Cellar!.
LOCATION:3715 29th Ave.\, Ste C
UID:e.1404.6448
SEQUENCE:3
DTSTAMP:20260422T132913Z
URL:https://members.kearneycoc.org/events/details/ribbon-cutting-all-makes-office-interiors-07-28-2015-6448
END:VEVENT

END:VCALENDAR
