BEGIN:VCALENDAR
VERSION:2.0
PRODID:-//ChamberMaster//Event Calendar 2.0//EN
METHOD:PUBLISH
X-PUBLISHED-TTL:P3D
REFRESH-INTERVAL:P3D
CALSCALE:GREGORIAN
BEGIN:VEVENT
DTSTART:20121011T170000Z
DTEND:20121011T180000Z
X-MICROSOFT-CDO-ALLDAYEVENT:FALSE
SUMMARY:Ribbon Cutting: Armagost Financial
DESCRIPTION:Join us for a Ribbon Cutting at Armagost Financial's new office location
X-ALT-DESC;FMTTYPE=text/html:Join us for a Ribbon Cutting at Armagost Financial&#39\;s new office location
LOCATION:right next to Kearney Realty at 109 E 52nd Street
UID:e.1404.2190
SEQUENCE:3
DTSTAMP:20260424T223752Z
URL:https://members.kearneycoc.org/events/details/ribbon-cutting-armagost-financial-10-11-2012-2190
END:VEVENT

END:VCALENDAR
