BEGIN:VCALENDAR
VERSION:2.0
PRODID:-//ChamberMaster//Event Calendar 2.0//EN
METHOD:PUBLISH
X-PUBLISHED-TTL:P3D
REFRESH-INTERVAL:P3D
CALSCALE:GREGORIAN
BEGIN:VEVENT
DTSTART:20130826T220000Z
DTEND:20130827T000000Z
X-MICROSOFT-CDO-ALLDAYEVENT:FALSE
SUMMARY:Ribbon Cutting: Big Apple Laser Tag Center
DESCRIPTION:Join us for a ribbon cutting ceremony for the Big Apple's recently completed Laser Tag expansion
X-ALT-DESC;FMTTYPE=text/html:Join us for a ribbon cutting ceremony for the Big Apple&#39\;s recently completed Laser Tag expansion
LOCATION:500 W 4th Street
UID:e.1404.3236
SEQUENCE:3
DTSTAMP:20260424T040106Z
URL:https://members.kearneycoc.org/events/details/ribbon-cutting-big-apple-laser-tag-center-08-26-2013-3236
END:VEVENT

END:VCALENDAR
