BEGIN:VCALENDAR
VERSION:2.0
PRODID:-//ChamberMaster//Event Calendar 2.0//EN
METHOD:PUBLISH
X-PUBLISHED-TTL:P3D
REFRESH-INTERVAL:P3D
CALSCALE:GREGORIAN
BEGIN:VEVENT
DTSTART:20130906T210000Z
DTEND:20130906T220000Z
X-MICROSOFT-CDO-ALLDAYEVENT:FALSE
SUMMARY:Ribbon Cutting: Big Prairie Homes
DESCRIPTION:Ribbon Cutting with beverages to follow
X-ALT-DESC;FMTTYPE=text/html:Ribbon Cutting with beverages to follow
LOCATION:6107 2nd Avenue Kearney\, NE
UID:e.1404.3298
SEQUENCE:3
DTSTAMP:20260424T020936Z
URL:https://members.kearneycoc.org/events/details/ribbon-cutting-big-prairie-homes-09-06-2013-3298
END:VEVENT

END:VCALENDAR
